<?xml version="1.0" encoding="UTF-8"?><wcs:CoverageDescriptions xmlns:wcs="http://www.opengis.net/wcs/2.0" xmlns:ows="http://www.opengis.net/ows/2.0" xmlns:gml="http://www.opengis.net/gml/3.2" xmlns:gmlcov="http://www.opengis.net/gmlcov/1.0" xmlns:xlink="http://www.w3.org/1999/xlink" xmlns:xsi="http://www.w3.org/2001/XMLSchema-instance" xmlns:swe="http://www.opengis.net/swe/2.0" xmlns:wcsgs="http://www.geoserver.org/wcsgs/2.0" xsi:schemaLocation=" http://www.opengis.net/wcs/2.0 http://schemas.opengis.net/wcs/2.0/wcsDescribeCoverage.xsd http://www.geoserver.org/wcsgs/2.0 http://data.integratedmodelling.org:80/geoserver/schemas/wcs/2.0/wcsgs.xsd">
  <wcs:CoverageDescription gml:id="world_bank__vcs_2011_global_300m">
    <gml:description>Generated from GeoTIFF</gml:description>
    <gml:name>vcs_2011_global_300m</gml:name>
    <gml:boundedBy>
      <gml:Envelope srsName="http://www.opengis.net/def/crs/EPSG/0/4326" axisLabels="Lat Long" uomLabels="Deg Deg" srsDimension="2">
        <gml:lowerCorner>-57.0 -180.0</gml:lowerCorner>
        <gml:upperCorner>84.0 180.0</gml:upperCorner>
      </gml:Envelope>
    </gml:boundedBy>
    <wcs:CoverageId>world_bank__vcs_2011_global_300m</wcs:CoverageId>
    <gml:coverageFunction>
      <gml:GridFunction>
        <gml:sequenceRule axisOrder="+2 +1">Linear</gml:sequenceRule>
        <gml:startPoint>0 0</gml:startPoint>
      </gml:GridFunction>
    </gml:coverageFunction>
    <gmlcov:metadata>
      <gmlcov:Extension>
        <ows:Keywords>
          <ows:Keyword>vcs_2011_global_300m</ows:Keyword>
          <ows:Keyword>WCS</ows:Keyword>
          <ows:Keyword>GeoTIFF</ows:Keyword>
        </ows:Keywords>
      </gmlcov:Extension>
    </gmlcov:metadata>
    <gml:domainSet>
      <gml:RectifiedGrid gml:id="grid00__world_bank__vcs_2011_global_300m" dimension="2">
        <gml:limits>
          <gml:GridEnvelope>
            <gml:low>0 0</gml:low>
            <gml:high>129599 50759</gml:high>
          </gml:GridEnvelope>
        </gml:limits>
        <gml:axisLabels>i j</gml:axisLabels>
        <gml:origin>
          <gml:Point gml:id="p00_world_bank__vcs_2011_global_300m" srsName="http://www.opengis.net/def/crs/EPSG/0/4326">
            <gml:pos>83.99861111111112 -179.9986111111111</gml:pos>
          </gml:Point>
        </gml:origin>
        <gml:offsetVector srsName="http://www.opengis.net/def/crs/EPSG/0/4326">0.0 0.002777777777777778</gml:offsetVector>
        <gml:offsetVector srsName="http://www.opengis.net/def/crs/EPSG/0/4326">-0.002777777777777778 0.0</gml:offsetVector>
      </gml:RectifiedGrid>
    </gml:domainSet>
    <gmlcov:rangeType>
      <swe:DataRecord>
        <swe:field name="GRAY_INDEX">
          <swe:Quantity>
            <swe:description>GRAY_INDEX</swe:description>
            <swe:uom code="W.m-2.Sr-1"/>
            <swe:constraint>
              <swe:AllowedValues>
                <swe:interval>-3.4028235E38 3.4028235E38</swe:interval>
              </swe:AllowedValues>
            </swe:constraint>
          </swe:Quantity>
        </swe:field>
      </swe:DataRecord>
    </gmlcov:rangeType>
    <wcs:ServiceParameters>
      <wcs:CoverageSubtype>RectifiedGridCoverage</wcs:CoverageSubtype>
      <wcs:nativeFormat>image/tiff</wcs:nativeFormat>
    </wcs:ServiceParameters>
  </wcs:CoverageDescription>
</wcs:CoverageDescriptions>
